BEGIN:VCALENDAR
VERSION:2.0
PRODID:-//Easton Public Market - ECPv6.15.11//NONSGML v1.0//EN
CALSCALE:GREGORIAN
METHOD:PUBLISH
X-WR-CALNAME:Easton Public Market
X-ORIGINAL-URL:https://eastonpublicmarket.com
X-WR-CALDESC:Events for Easton Public Market
REFRESH-INTERVAL;VALUE=DURATION:PT1H
X-Robots-Tag:noindex
X-PUBLISHED-TTL:PT1H
BEGIN:VTIMEZONE
TZID:America/New_York
BEGIN:DAYLIGHT
TZOFFSETFROM:-0500
TZOFFSETTO:-0400
TZNAME:EDT
DTSTART:20240310T070000
END:DAYLIGHT
BEGIN:STANDARD
TZOFFSETFROM:-0400
TZOFFSETTO:-0500
TZNAME:EST
DTSTART:20241103T060000
END:STANDARD
BEGIN:DAYLIGHT
TZOFFSETFROM:-0500
TZOFFSETTO:-0400
TZNAME:EDT
DTSTART:20250309T070000
END:DAYLIGHT
BEGIN:STANDARD
TZOFFSETFROM:-0400
TZOFFSETTO:-0500
TZNAME:EST
DTSTART:20251102T060000
END:STANDARD
BEGIN:DAYLIGHT
TZOFFSETFROM:-0500
TZOFFSETTO:-0400
TZNAME:EDT
DTSTART:20260308T070000
END:DAYLIGHT
BEGIN:STANDARD
TZOFFSETFROM:-0400
TZOFFSETTO:-0500
TZNAME:EST
DTSTART:20261101T060000
END:STANDARD
END:VTIMEZONE
BEGIN:VEVENT
DTSTART;TZID=America/New_York:20250321T180000
DTEND;TZID=America/New_York:20250321T200000
DTSTAMP:20260422T015949
CREATED:20250318T190831Z
LAST-MODIFIED:20250318T190831Z
UID:10713-1742580000-1742587200@eastonpublicmarket.com
SUMMARY:Acoustic Kitchen presented by Martin Guitar – Steve Brosky
DESCRIPTION:Friday nights from 6:00 – 8:00 p.m.  Kick off your weekend with live music and your favorite EPM eats! Brought to you by our music sponsor\, Martin Guitar! \nInterested in becoming an Acoustic Kitchen performer?  Email Channey at Channey@eastonpartnership.org.
URL:https://eastonpublicmarket.com/event/acoustic-kitchen-presented-by-martin-guitar-steve-brosky/
ATTACH;FMTTYPE=image/jpeg:https://eastonpublicmarket.com/wp-content/uploads/2025/03/epm_acoustickitchen_march_FBevent_2025-03-scaled.jpg
END:VEVENT
BEGIN:VEVENT
DTSTART;TZID=America/New_York:20250320T100000
DTEND;TZID=America/New_York:20250320T103000
DTSTAMP:20260422T015949
CREATED:20250318T191647Z
LAST-MODIFIED:20250318T191647Z
UID:10717-1742464800-1742466600@eastonpublicmarket.com
SUMMARY:Story and a Snack: St. Patrick’s Day Smoothie Bowls
DESCRIPTION:Come join us in the Lehigh Valley Children’s Hospital Kids’ Zone in the back of the market for weekly seasonal stories and their accompanying snacks! Every week we try something tasty from the pages of a book\, with activities to get the young ones engaged. All ages welcome! \nInterested in a particular theme?  Questions about food allergens?  \nReach out to keri@eastonpartnership.org! \nNo sign-Up Required.
URL:https://eastonpublicmarket.com/event/story-and-a-snack-st-patricks-day-smoothie-bowls/
ATTACH;FMTTYPE=image/png:https://eastonpublicmarket.com/wp-content/uploads/2025/03/August-22nd-2024-44-768x1365-1.png
END:VEVENT
END:VCALENDAR