BEGIN:VCALENDAR
VERSION:2.0
PRODID:-//Easton Public Market - ECPv6.15.11//NONSGML v1.0//EN
CALSCALE:GREGORIAN
METHOD:PUBLISH
X-WR-CALNAME:Easton Public Market
X-ORIGINAL-URL:https://eastonpublicmarket.com
X-WR-CALDESC:Events for Easton Public Market
REFRESH-INTERVAL;VALUE=DURATION:PT1H
X-Robots-Tag:noindex
X-PUBLISHED-TTL:PT1H
BEGIN:VTIMEZONE
TZID:America/New_York
BEGIN:DAYLIGHT
TZOFFSETFROM:-0500
TZOFFSETTO:-0400
TZNAME:EDT
DTSTART:20250309T070000
END:DAYLIGHT
BEGIN:STANDARD
TZOFFSETFROM:-0400
TZOFFSETTO:-0500
TZNAME:EST
DTSTART:20251102T060000
END:STANDARD
BEGIN:DAYLIGHT
TZOFFSETFROM:-0500
TZOFFSETTO:-0400
TZNAME:EDT
DTSTART:20260308T070000
END:DAYLIGHT
BEGIN:STANDARD
TZOFFSETFROM:-0400
TZOFFSETTO:-0500
TZNAME:EST
DTSTART:20261101T060000
END:STANDARD
BEGIN:DAYLIGHT
TZOFFSETFROM:-0500
TZOFFSETTO:-0400
TZNAME:EDT
DTSTART:20270314T070000
END:DAYLIGHT
BEGIN:STANDARD
TZOFFSETFROM:-0400
TZOFFSETTO:-0500
TZNAME:EST
DTSTART:20271107T060000
END:STANDARD
END:VTIMEZONE
BEGIN:VEVENT
DTSTART;TZID=America/New_York:20260402T100000
DTEND;TZID=America/New_York:20260402T103000
DTSTAMP:20260425T141457
CREATED:20260324T192027Z
LAST-MODIFIED:20260324T192027Z
UID:12022-1775124000-1775125800@eastonpublicmarket.com
SUMMARY:Story and a Snack:  Chocolate Easter Hunt
DESCRIPTION:Come join us in the Lehigh Valley Children’s Hospital Kids’ Zone in the back of the market for weekly seasonal stories and their accompanying snacks! Every week we try something tasty from the pages of a book\, with activities to get the young ones engaged. All ages welcome! \nThis Week:  Chocolate Egg Hunt with Chocodiem!  Each child can find ONE egg. \nInterested in a particular theme? Questions about food allergens? \nReach out to keri@eastonpartnership.org! \nNo Sign-Up Required.
URL:https://eastonpublicmarket.com/event/story-and-a-snack-chocolate-easter-hunt/
LOCATION:Easton Public Market
ATTACH;FMTTYPE=image/png:https://eastonpublicmarket.com/wp-content/uploads/2026/03/August-22nd-2024-42.png
END:VEVENT
BEGIN:VEVENT
DTSTART;TZID=America/New_York:20260402T160000
DTEND;TZID=America/New_York:20260402T170000
DTSTAMP:20260425T141457
CREATED:20260326T175357Z
LAST-MODIFIED:20260326T175357Z
UID:12033-1775145600-1775149200@eastonpublicmarket.com
SUMMARY:Bincho Don Grand Opening
DESCRIPTION:Join us April 2nd at 4pm for the Grand Opening Ribbon Cutting for Bincho Don – an island-focused takeout concept led by chef Kadon\, whose cooking draws from Caribbean roots and a lifelong connection to island cultures around the world.
URL:https://eastonpublicmarket.com/event/bincho-don-grand-opening/
LOCATION:Easton Public Market
ATTACH;FMTTYPE=image/png:https://eastonpublicmarket.com/wp-content/uploads/2026/03/rose-2.pdf.png
END:VEVENT
BEGIN:VEVENT
DTSTART;TZID=America/New_York:20260402T173000
DTEND;TZID=America/New_York:20260402T190000
DTSTAMP:20260425T141457
CREATED:20260310T152015Z
LAST-MODIFIED:20260320T142914Z
UID:12000-1775151000-1775156400@eastonpublicmarket.com
SUMMARY:Plant Bingo by Houseplanted - SOLD OUT
DESCRIPTION:Come join us for a fun game of Plant Bingo at Easton Public Market – it’s a great way to win some greenery for your home!\nDan and Alyssa are back at it with Plant Bingo! Boards are $5 each which can be purchased through the attached link and all extra boards can be purchased at the door for $2/each. Get excited for some amazing market prizes and PLANTS! Seats fill up really fast so get your tickets today! 
URL:https://eastonpublicmarket.com/event/plant-bingo-by-houseplanted-6/
LOCATION:Easton Public Market
ATTACH;FMTTYPE=image/jpeg:https://eastonpublicmarket.com/wp-content/uploads/2026/01/616399360_1206452174795846_8418006645028904046_n.jpg
END:VEVENT
END:VCALENDAR