BEGIN:VCALENDAR
VERSION:2.0
PRODID:-//Easton Public Market - ECPv6.15.11//NONSGML v1.0//EN
CALSCALE:GREGORIAN
METHOD:PUBLISH
X-ORIGINAL-URL:https://eastonpublicmarket.com
X-WR-CALDESC:Events for Easton Public Market
REFRESH-INTERVAL;VALUE=DURATION:PT1H
X-Robots-Tag:noindex
X-PUBLISHED-TTL:PT1H
BEGIN:VTIMEZONE
TZID:America/New_York
BEGIN:DAYLIGHT
TZOFFSETFROM:-0500
TZOFFSETTO:-0400
TZNAME:EDT
DTSTART:20250309T070000
END:DAYLIGHT
BEGIN:STANDARD
TZOFFSETFROM:-0400
TZOFFSETTO:-0500
TZNAME:EST
DTSTART:20251102T060000
END:STANDARD
BEGIN:DAYLIGHT
TZOFFSETFROM:-0500
TZOFFSETTO:-0400
TZNAME:EDT
DTSTART:20260308T070000
END:DAYLIGHT
BEGIN:STANDARD
TZOFFSETFROM:-0400
TZOFFSETTO:-0500
TZNAME:EST
DTSTART:20261101T060000
END:STANDARD
BEGIN:DAYLIGHT
TZOFFSETFROM:-0500
TZOFFSETTO:-0400
TZNAME:EDT
DTSTART:20270314T070000
END:DAYLIGHT
BEGIN:STANDARD
TZOFFSETFROM:-0400
TZOFFSETTO:-0500
TZNAME:EST
DTSTART:20271107T060000
END:STANDARD
END:VTIMEZONE
BEGIN:VEVENT
DTSTART;TZID=America/New_York:20260201T110000
DTEND;TZID=America/New_York:20260201T140000
DTSTAMP:20260421T085651
CREATED:20260128T135722Z
LAST-MODIFIED:20260128T145218Z
UID:11861-1769943600-1769954400@eastonpublicmarket.com
SUMMARY:Jazz Brunch – Featuring Mike Lorenz & Keith Packard!
DESCRIPTION:Sundays just got a whole lot smoother!\n\nJoin Mike Lorenz & Keith Packard on Sunday\, February 1st\, 2026 for an unforgettable duo set as they set the perfect Sunday vibe.  Enjoy live jazz from 11 a.m. to 2 p.m. \nDon’t miss out on the rhythm and flavor at Easton Public Market!  There’s no better way to savor your weekend!
URL:https://eastonpublicmarket.com/event/jazz-brunch-featuring-mike-lorenz-19/
LOCATION:Easton Public Market
ATTACH;FMTTYPE=image/jpeg:https://eastonpublicmarket.com/wp-content/uploads/2025/03/459429195_548834447496204_420509504150850626_n.jpg
END:VEVENT
END:VCALENDAR