BEGIN:VCALENDAR
VERSION:2.0
PRODID:-//Easton Public Market - ECPv6.15.11//NONSGML v1.0//EN
CALSCALE:GREGORIAN
METHOD:PUBLISH
X-ORIGINAL-URL:https://eastonpublicmarket.com
X-WR-CALDESC:Events for Easton Public Market
REFRESH-INTERVAL;VALUE=DURATION:PT1H
X-Robots-Tag:noindex
X-PUBLISHED-TTL:PT1H
BEGIN:VTIMEZONE
TZID:America/New_York
BEGIN:DAYLIGHT
TZOFFSETFROM:-0500
TZOFFSETTO:-0400
TZNAME:EDT
DTSTART:20240310T070000
END:DAYLIGHT
BEGIN:STANDARD
TZOFFSETFROM:-0400
TZOFFSETTO:-0500
TZNAME:EST
DTSTART:20241103T060000
END:STANDARD
BEGIN:DAYLIGHT
TZOFFSETFROM:-0500
TZOFFSETTO:-0400
TZNAME:EDT
DTSTART:20250309T070000
END:DAYLIGHT
BEGIN:STANDARD
TZOFFSETFROM:-0400
TZOFFSETTO:-0500
TZNAME:EST
DTSTART:20251102T060000
END:STANDARD
BEGIN:DAYLIGHT
TZOFFSETFROM:-0500
TZOFFSETTO:-0400
TZNAME:EDT
DTSTART:20260308T070000
END:DAYLIGHT
BEGIN:STANDARD
TZOFFSETFROM:-0400
TZOFFSETTO:-0500
TZNAME:EST
DTSTART:20261101T060000
END:STANDARD
END:VTIMEZONE
BEGIN:VEVENT
DTSTART;TZID=America/New_York:20251030T100000
DTEND;TZID=America/New_York:20251030T103000
DTSTAMP:20260421T072938
CREATED:20251021T143557Z
LAST-MODIFIED:20251021T143557Z
UID:11396-1761818400-1761820200@eastonpublicmarket.com
SUMMARY:Story and a Snack:  Halloween Sweet!
DESCRIPTION:Come join us in the Lehigh Valley Children’s Hospital Kids’ Zone in the back of the market for weekly seasonal stories and their accompanying snacks! Every week we try something tasty from the pages of a book\, with activities to get the young ones engaged. All ages welcome! \nThis Week:  Mini Spooky Brownie Pudding Cups from Chocodiem & Special Guest\, Jessica Schirripa\, reading her book – Baby Balboa… Plus\, wear your Halloween costume! \nInterested in a particular theme?  Questions about food allergens?  \nReach out to keri@eastonpartnership.org! \nNo sign-Up Required.
URL:https://eastonpublicmarket.com/event/story-and-a-snack-halloween-sweet/
LOCATION:Easton Public Market
ATTACH;FMTTYPE=image/png:https://eastonpublicmarket.com/wp-content/uploads/2025/10/August-22nd-2024-20.png
END:VEVENT
BEGIN:VEVENT
DTSTART;TZID=America/New_York:20251030T173000
DTEND;TZID=America/New_York:20251030T190000
DTSTAMP:20260421T072938
CREATED:20251015T152009Z
LAST-MODIFIED:20251022T133840Z
UID:11379-1761845400-1761850800@eastonpublicmarket.com
SUMMARY:Plant Bingo by HousePlanted!
DESCRIPTION:Come join us for a fun game of Plant Bingo at Easton Public Market – it’s a great way to win some greenery for your home!\nJoin us at the Easton Public Market for a fun and exciting plant-themed bingo event. Win exciting prizes including a grand prize gift basket with contributions from several EPM vendors!  Cluck N Shuck will be offering tasty food options and participants will receive a $1 off coupon for Tolino Vineyards. This event promises an evening of laughter\, competition\, and greenery.\n\n\nDon’t miss out on this unique opportunity to combine your love for plants with the thrill of bingo. Your first board is $5 if purchased in advance (see link below) and additional boards will be $2 each at the door. Initial boards will be $7 at the door. See you there!
URL:https://eastonpublicmarket.com/event/plant-bingo-by-houseplanted/
LOCATION:Easton Public Market
ATTACH;FMTTYPE=image/jpeg:https://eastonpublicmarket.com/wp-content/uploads/2025/10/unnamed-76.jpg
END:VEVENT
END:VCALENDAR