BEGIN:VCALENDAR
VERSION:2.0
PRODID:-//Easton Public Market - ECPv6.15.11//NONSGML v1.0//EN
CALSCALE:GREGORIAN
METHOD:PUBLISH
X-ORIGINAL-URL:https://eastonpublicmarket.com
X-WR-CALDESC:Events for Easton Public Market
REFRESH-INTERVAL;VALUE=DURATION:PT1H
X-Robots-Tag:noindex
X-PUBLISHED-TTL:PT1H
BEGIN:VTIMEZONE
TZID:America/New_York
BEGIN:DAYLIGHT
TZOFFSETFROM:-0500
TZOFFSETTO:-0400
TZNAME:EDT
DTSTART:20240310T070000
END:DAYLIGHT
BEGIN:STANDARD
TZOFFSETFROM:-0400
TZOFFSETTO:-0500
TZNAME:EST
DTSTART:20241103T060000
END:STANDARD
BEGIN:DAYLIGHT
TZOFFSETFROM:-0500
TZOFFSETTO:-0400
TZNAME:EDT
DTSTART:20250309T070000
END:DAYLIGHT
BEGIN:STANDARD
TZOFFSETFROM:-0400
TZOFFSETTO:-0500
TZNAME:EST
DTSTART:20251102T060000
END:STANDARD
BEGIN:DAYLIGHT
TZOFFSETFROM:-0500
TZOFFSETTO:-0400
TZNAME:EDT
DTSTART:20260308T070000
END:DAYLIGHT
BEGIN:STANDARD
TZOFFSETFROM:-0400
TZOFFSETTO:-0500
TZNAME:EST
DTSTART:20261101T060000
END:STANDARD
END:VTIMEZONE
BEGIN:VEVENT
DTSTART;TZID=America/New_York:20250619T100000
DTEND;TZID=America/New_York:20250619T103000
DTSTAMP:20260421T142939
CREATED:20250603T150415Z
LAST-MODIFIED:20250605T164937Z
UID:11130-1750327200-1750329000@eastonpublicmarket.com
SUMMARY:Story and a Snack:  Honey Harvest
DESCRIPTION:Come join us in the Lehigh Valley Children’s Hospital Kids’ Zone in the back of the market for weekly seasonal stories and their accompanying snacks! Every week we try something tasty from the pages of a book\, with activities to get the young ones engaged. All ages welcome! \nThis Week:  Honey from the Highmark Farmstand with Easton Market District Manager\, Emily Roland and her observation beehive! \nInterested in a particular theme?  Questions about food allergens?  \nReach out to keri@eastonpartnership.org! \nNo sign-Up Required.
URL:https://eastonpublicmarket.com/event/story-and-a-snack-honey/
ATTACH;FMTTYPE=image/png:https://eastonpublicmarket.com/wp-content/uploads/2025/06/August-22nd-2024-14.png
END:VEVENT
END:VCALENDAR