BEGIN:VCALENDAR
VERSION:2.0
PRODID:-//Easton Public Market - ECPv6.15.11//NONSGML v1.0//EN
CALSCALE:GREGORIAN
METHOD:PUBLISH
X-WR-CALNAME:Easton Public Market
X-ORIGINAL-URL:https://eastonpublicmarket.com
X-WR-CALDESC:Events for Easton Public Market
REFRESH-INTERVAL;VALUE=DURATION:PT1H
X-Robots-Tag:noindex
X-PUBLISHED-TTL:PT1H
BEGIN:VTIMEZONE
TZID:America/New_York
BEGIN:DAYLIGHT
TZOFFSETFROM:-0500
TZOFFSETTO:-0400
TZNAME:EDT
DTSTART:20240310T070000
END:DAYLIGHT
BEGIN:STANDARD
TZOFFSETFROM:-0400
TZOFFSETTO:-0500
TZNAME:EST
DTSTART:20241103T060000
END:STANDARD
BEGIN:DAYLIGHT
TZOFFSETFROM:-0500
TZOFFSETTO:-0400
TZNAME:EDT
DTSTART:20250309T070000
END:DAYLIGHT
BEGIN:STANDARD
TZOFFSETFROM:-0400
TZOFFSETTO:-0500
TZNAME:EST
DTSTART:20251102T060000
END:STANDARD
BEGIN:DAYLIGHT
TZOFFSETFROM:-0500
TZOFFSETTO:-0400
TZNAME:EDT
DTSTART:20260308T070000
END:DAYLIGHT
BEGIN:STANDARD
TZOFFSETFROM:-0400
TZOFFSETTO:-0500
TZNAME:EST
DTSTART:20261101T060000
END:STANDARD
END:VTIMEZONE
BEGIN:VEVENT
DTSTART;TZID=America/New_York:20250614T110000
DTEND;TZID=America/New_York:20250614T130000
DTSTAMP:20260421T143332
CREATED:20250605T163657Z
LAST-MODIFIED:20250605T163657Z
UID:11134-1749898800-1749906000@eastonpublicmarket.com
SUMMARY:Kids Cooking Class - Pizza Party
DESCRIPTION:FREE Event\, But Must Reserve Spot at the Website URL below.\nIn this fun and free hands-on class\, kids will make their own pizza from scratch with a help of Thermomix! \nWhat’s on the Menu:\n Homemade Pizza – kids roll the dough\, add toppings\, and bake\n Fresh Drink – a smoothie or lemonade made in minutes\n Surprise Activity – a fun treat or take-home craft to end the class \nWhat to Expect:\n✅ Easy\, guided cooking with kid-friendly tools\n✅ All ingredients and supplies included\n✅ A delicious\, creative experience! \nPerfect for all ages . \nAll kids must be accompanied by a parent or guardian throughout the class. \nLet your child explore the kitchen and have a blast!
URL:https://eastonpublicmarket.com/event/kids-cooking-class-pizza-party/
LOCATION:Easton Public Market
ATTACH;FMTTYPE=image/png:https://eastonpublicmarket.com/wp-content/uploads/2025/06/image001.png
END:VEVENT
BEGIN:VEVENT
DTSTART;TZID=America/New_York:20250614T150000
DTEND;TZID=America/New_York:20250614T170000
DTSTAMP:20260421T143332
CREATED:20250605T163928Z
LAST-MODIFIED:20250605T163928Z
UID:11141-1749913200-1749920400@eastonpublicmarket.com
SUMMARY:Kids Cooking Class - Pizza Party
DESCRIPTION:FREE Event\, But Must Reserve Spot at the Website URL below.\nIn this fun and free hands-on class\, kids will make their own pizza from scratch with a help of Thermomix! \nWhat’s on the Menu:\nHomemade Pizza – kids roll the dough\, add toppings\, and bake\nFresh Drink – a smoothie or lemonade made in minutes\nSurprise Activity – a fun treat or take-home craft to end the class \nWhat to Expect:\n✅ Easy\, guided cooking with kid-friendly tools\n✅ All ingredients and supplies included\n✅ A delicious\, creative experience! \nPerfect for all ages . \nAll kids must be accompanied by a parent or guardian throughout the class. \nLet your child explore the kitchen and have a blast!
URL:https://eastonpublicmarket.com/event/kids-cooking-class-pizza-party-2/
LOCATION:Easton Public Market
ATTACH;FMTTYPE=image/png:https://eastonpublicmarket.com/wp-content/uploads/2025/06/image001.png
END:VEVENT
END:VCALENDAR